Package: MultiAssayExperiment Version: 1.37.1 Command: /Library/Frameworks/R.framework/Resources/bin/R CMD build --keep-empty-dirs --no-resave-data MultiAssayExperiment StartedAt: 2025-11-14 17:06:26 -0500 (Fri, 14 Nov 2025) EndedAt: 2025-11-14 17:06:53 -0500 (Fri, 14 Nov 2025) EllapsedTime: 27.3 seconds RetCode: 0 Status: OK PackageFile: MultiAssayExperiment_1.37.1.tar.gz PackageFileSize: 1.303 MiB