Package: MultiAssayExperiment Version: 1.37.1 Command: rm -rf MultiAssayExperiment.buildbin-libdir && mkdir MultiAssayExperiment.buildbin-libdir && /Users/biocbuild/BBS/utils/build-universal.sh MultiAssayExperiment_1.37.1.tar.gz /Library/Frameworks/R.framework/Resources/bin/R MultiAssayExperiment.buildbin-libdir StartedAt: 2025-11-13 23:47:34 -0500 (Thu, 13 Nov 2025) EndedAt: 2025-11-13 23:47:50 -0500 (Thu, 13 Nov 2025) EllapsedTime: 15.3 seconds RetCode: 0 Status: OK PackageFile: MultiAssayExperiment_1.37.1.tgz PackageFileSize: 2.233 MiB