Package: Mulcom Version: 1.61.0 Command: /Library/Frameworks/R.framework/Resources/bin/R CMD build --keep-empty-dirs --no-resave-data Mulcom StartedAt: 2025-11-13 17:09:19 -0500 (Thu, 13 Nov 2025) EndedAt: 2025-11-13 17:09:20 -0500 (Thu, 13 Nov 2025) EllapsedTime: 1.0 seconds RetCode: 0 Status: OK PackageFile: Mulcom_1.61.0.tar.gz PackageFileSize: 1.095 MiB