Package: Mulcom Version: 1.61.0 Command: rm -rf Mulcom.buildbin-libdir && mkdir Mulcom.buildbin-libdir && /Users/biocbuild/BBS/utils/build-universal.sh Mulcom_1.61.0.tar.gz /Library/Frameworks/R.framework/Resources/bin/R Mulcom.buildbin-libdir StartedAt: 2025-11-13 23:47:33 -0500 (Thu, 13 Nov 2025) EndedAt: 2025-11-13 23:47:38 -0500 (Thu, 13 Nov 2025) EllapsedTime: 5.1 seconds RetCode: 0 Status: OK PackageFile: Mulcom_1.61.0.tgz PackageFileSize: 1.186 MiB