Package: Mulcom Version: 1.61.0 Maintainer: Claudio Isella MaintainerEmail: claudio.isella at ircc.it git_url: https://git.bioconductor.org/packages/Mulcom git_branch: devel git_last_commit: 7d6df9a git_last_commit_date: 2025-10-29 10:05:38 -0500 (Wed, 29 Oct 2025)