Package: MuData Version: 1.15.0 Maintainer: Ilia Kats MaintainerEmail: i.kats at dkfz-heidelberg.de git_url: https://git.bioconductor.org/packages/MuData git_branch: devel git_last_commit: 186e639 git_last_commit_date: 2025-10-29 11:15:11 -0500 (Wed, 29 Oct 2025)