Package: MsQuality Version: 1.11.0 Command: /home/biocbuild/bbs-3.23-bioc/R/bin/R CMD INSTALL MsQuality StartedAt: 2025-11-16 15:36:24 -0500 (Sun, 16 Nov 2025) EndedAt: 2025-11-16 15:36:58 -0500 (Sun, 16 Nov 2025) EllapsedTime: 33.8 seconds RetCode: 0 Status: OK