Package: MsQuality Version: 1.11.0 Command: /home/biocbuild/bbs-3.23-bioc/R/bin/R CMD build --keep-empty-dirs --no-resave-data MsQuality StartedAt: 2025-11-14 18:52:27 -0500 (Fri, 14 Nov 2025) EndedAt: 2025-11-14 18:53:28 -0500 (Fri, 14 Nov 2025) EllapsedTime: 61.0 seconds RetCode: 0 Status: OK PackageFile: MsQuality_1.11.0.tar.gz PackageFileSize: 4.244 MiB