Package: MsQuality Version: 1.11.0 Command: /Library/Frameworks/R.framework/Resources/bin/R CMD INSTALL MsQuality StartedAt: 2025-11-12 15:36:27 -0500 (Wed, 12 Nov 2025) EndedAt: 2025-11-12 15:36:39 -0500 (Wed, 12 Nov 2025) EllapsedTime: 12.9 seconds RetCode: 0 Status: OK