Package: MsQuality Version: 1.11.0 Command: rm -rf MsQuality.buildbin-libdir && mkdir MsQuality.buildbin-libdir && /Users/biocbuild/BBS/utils/build-universal.sh MsQuality_1.11.0.tar.gz /Library/Frameworks/R.framework/Resources/bin/R MsQuality.buildbin-libdir StartedAt: 2025-11-13 23:47:18 -0500 (Thu, 13 Nov 2025) EndedAt: 2025-11-13 23:47:34 -0500 (Thu, 13 Nov 2025) EllapsedTime: 16.4 seconds RetCode: 0 Status: OK PackageFile: MsQuality_1.11.0.tgz PackageFileSize: 4.385 MiB