Package: MsQuality Version: 1.11.0 Maintainer: Thomas Naake MaintainerEmail: thomasnaake at googlemail.com git_url: https://git.bioconductor.org/packages/MsQuality git_branch: devel git_last_commit: 58f05c8 git_last_commit_date: 2025-10-29 11:20:21 -0500 (Wed, 29 Oct 2025)