Package: MsFeatures Version: 1.19.0 Command: /home/biocbuild/bbs-3.23-bioc/R/bin/R CMD build --keep-empty-dirs --no-resave-data MsFeatures StartedAt: 2025-11-11 18:54:51 -0500 (Tue, 11 Nov 2025) EndedAt: 2025-11-11 18:55:26 -0500 (Tue, 11 Nov 2025) EllapsedTime: 35.0 seconds RetCode: 0 Status: OK PackageFile: MsFeatures_1.19.0.tar.gz PackageFileSize: 1.434 MiB