Package: MsExperiment Version: 1.13.0 Command: /home/biocbuild/bbs-3.23-bioc/R/bin/R CMD INSTALL MsExperiment StartedAt: 2025-11-13 15:35:56 -0500 (Thu, 13 Nov 2025) EndedAt: 2025-11-13 15:36:26 -0500 (Thu, 13 Nov 2025) EllapsedTime: 30.1 seconds RetCode: 0 Status: OK