Package: MsExperiment Version: 1.13.0 Command: /home/biocbuild/bbs-3.23-bioc/R/bin/R CMD build --keep-empty-dirs --no-resave-data MsExperiment StartedAt: 2025-11-13 18:50:41 -0500 (Thu, 13 Nov 2025) EndedAt: 2025-11-13 18:51:43 -0500 (Thu, 13 Nov 2025) EllapsedTime: 62.0 seconds RetCode: 0 Status: OK PackageFile: MsExperiment_1.13.0.tar.gz PackageFileSize: 1.917 MiB