Package: MsExperiment Version: 1.13.0 Command: /Library/Frameworks/R.framework/Resources/bin/R CMD INSTALL MsExperiment StartedAt: 2025-11-14 15:20:03 -0500 (Fri, 14 Nov 2025) EndedAt: 2025-11-14 15:20:16 -0500 (Fri, 14 Nov 2025) EllapsedTime: 12.6 seconds RetCode: 0 Status: OK