Package: MsExperiment Version: 1.13.0 Command: /Library/Frameworks/R.framework/Resources/bin/R CMD build --keep-empty-dirs --no-resave-data MsExperiment StartedAt: 2025-11-14 17:04:38 -0500 (Fri, 14 Nov 2025) EndedAt: 2025-11-14 17:05:11 -0500 (Fri, 14 Nov 2025) EllapsedTime: 32.4 seconds RetCode: 0 Status: OK PackageFile: MsExperiment_1.13.0.tar.gz PackageFileSize: 1.892 MiB