Package: MsExperiment Version: 1.13.0 Maintainer: Laurent Gatto MaintainerEmail: laurent.gatto at uclouvain.be git_url: https://git.bioconductor.org/packages/MsExperiment git_branch: devel git_last_commit: 18b0bf2 git_last_commit_date: 2025-10-29 11:18:49 -0500 (Wed, 29 Oct 2025)