Package: MsDataHub Version: 1.11.0 Command: /home/biocbuild/bbs-3.23-bioc/R/bin/R CMD INSTALL MsDataHub StartedAt: 2025-11-13 15:26:48 -0500 (Thu, 13 Nov 2025) EndedAt: 2025-11-13 15:27:02 -0500 (Thu, 13 Nov 2025) EllapsedTime: 13.6 seconds RetCode: 0 Status: OK