Package: MsDataHub Version: 1.11.0 Command: /home/biocbuild/bbs-3.23-bioc/R/bin/R CMD build --keep-empty-dirs --no-resave-data MsDataHub StartedAt: 2025-11-13 18:50:34 -0500 (Thu, 13 Nov 2025) EndedAt: 2025-11-13 18:53:53 -0500 (Thu, 13 Nov 2025) EllapsedTime: 199.2 seconds RetCode: 0 Status: OK PackageFile: MsDataHub_1.11.0.tar.gz PackageFileSize: 372.4 KiB