Package: MsDataHub Version: 1.11.0 Command: /Library/Frameworks/R.framework/Resources/bin/R CMD INSTALL MsDataHub StartedAt: 2025-11-12 15:28:51 -0500 (Wed, 12 Nov 2025) EndedAt: 2025-11-12 15:28:58 -0500 (Wed, 12 Nov 2025) EllapsedTime: 6.3 seconds RetCode: 0 Status: OK