Package: MsDataHub Version: 1.11.0 Maintainer: Laurent Gatto MaintainerEmail: laurent.gatto at uclouvain.be git_url: https://git.bioconductor.org/packages/MsDataHub git_branch: devel git_last_commit: e83d0e7 git_last_commit_date: 2025-10-29 11:21:50 -0500 (Wed, 29 Oct 2025)