Package: MsCoreUtils Version: 1.23.0 Command: /home/biocbuild/bbs-3.23-bioc/R/bin/R CMD check --install=check:MsCoreUtils.install-out.txt --library=/home/biocbuild/bbs-3.23-bioc/R/site-library --timings MsCoreUtils_1.23.0.tar.gz StartedAt: 2025-11-14 01:45:47 -0500 (Fri, 14 Nov 2025) EndedAt: 2025-11-14 01:47:08 -0500 (Fri, 14 Nov 2025) EllapsedTime: 80.2 seconds RetCode: 1 Status: ERROR CheckDir: MsCoreUtils.Rcheck Warnings: NA