Package: MsCoreUtils Version: 1.23.0 Command: /Library/Frameworks/R.framework/Resources/bin/R CMD INSTALL MsCoreUtils StartedAt: 2025-11-14 15:07:50 -0500 (Fri, 14 Nov 2025) EndedAt: 2025-11-14 15:07:53 -0500 (Fri, 14 Nov 2025) EllapsedTime: 2.9 seconds RetCode: 0 Status: OK