Package: MsCoreUtils Version: 1.23.0 Command: /Library/Frameworks/R.framework/Resources/bin/R CMD check --install=check:MsCoreUtils.install-out.txt --library=/Library/Frameworks/R.framework/Resources/library --no-vignettes --timings MsCoreUtils_1.23.0.tar.gz StartedAt: 2025-11-14 21:11:26 -0500 (Fri, 14 Nov 2025) EndedAt: 2025-11-14 21:12:28 -0500 (Fri, 14 Nov 2025) EllapsedTime: 61.9 seconds RetCode: 1 Status: ERROR CheckDir: MsCoreUtils.Rcheck Warnings: NA