Package: MsCoreUtils Version: 1.23.0 Command: /Library/Frameworks/R.framework/Resources/bin/R CMD build --keep-empty-dirs --no-resave-data MsCoreUtils StartedAt: 2025-11-14 17:04:34 -0500 (Fri, 14 Nov 2025) EndedAt: 2025-11-14 17:04:39 -0500 (Fri, 14 Nov 2025) EllapsedTime: 5.1 seconds RetCode: 0 Status: OK PackageFile: MsCoreUtils_1.23.0.tar.gz PackageFileSize: 414.2 KiB