Package: MsCoreUtils Version: 1.23.0 Command: rm -rf MsCoreUtils.buildbin-libdir && mkdir MsCoreUtils.buildbin-libdir && /Users/biocbuild/BBS/utils/build-universal.sh MsCoreUtils_1.23.0.tar.gz /Library/Frameworks/R.framework/Resources/bin/R MsCoreUtils.buildbin-libdir StartedAt: 2025-11-14 23:42:08 -0500 (Fri, 14 Nov 2025) EndedAt: 2025-11-14 23:42:14 -0500 (Fri, 14 Nov 2025) EllapsedTime: 5.1 seconds RetCode: 0 Status: OK PackageFile: MsCoreUtils_1.23.0.tgz PackageFileSize: 537.6 KiB