Package: MsBackendSql Version: 1.11.1 Command: /home/biocbuild/bbs-3.23-bioc/R/bin/R CMD INSTALL MsBackendSql StartedAt: 2025-11-11 15:18:26 -0500 (Tue, 11 Nov 2025) EndedAt: 2025-11-11 15:18:40 -0500 (Tue, 11 Nov 2025) EllapsedTime: 14.1 seconds RetCode: 0 Status: OK