Package: MsBackendSql Version: 1.11.1 Command: /home/biocbuild/bbs-3.23-bioc/R/bin/R CMD build --keep-empty-dirs --no-resave-data MsBackendSql StartedAt: 2025-11-11 18:54:37 -0500 (Tue, 11 Nov 2025) EndedAt: 2025-11-11 18:55:37 -0500 (Tue, 11 Nov 2025) EllapsedTime: 60.0 seconds RetCode: 0 Status: OK PackageFile: MsBackendSql_1.11.1.tar.gz PackageFileSize: 348.4 KiB