Package: MsBackendSql Version: 1.11.1 Command: /Library/Frameworks/R.framework/Resources/bin/R CMD build --keep-empty-dirs --no-resave-data MsBackendSql StartedAt: 2025-11-13 17:07:27 -0500 (Thu, 13 Nov 2025) EndedAt: 2025-11-13 17:07:56 -0500 (Thu, 13 Nov 2025) EllapsedTime: 29.3 seconds RetCode: 0 Status: OK PackageFile: MsBackendSql_1.11.1.tar.gz PackageFileSize: 348.4 KiB