Package: MsBackendRawFileReader Version: 1.17.0 Command: /home/biocbuild/bbs-3.23-bioc/R/bin/R CMD INSTALL MsBackendRawFileReader StartedAt: 2025-11-14 15:15:19 -0500 (Fri, 14 Nov 2025) EndedAt: 2025-11-14 15:15:29 -0500 (Fri, 14 Nov 2025) EllapsedTime: 10.2 seconds RetCode: 0 Status: OK