Package: MsBackendRawFileReader Version: 1.17.0 Command: /home/biocbuild/bbs-3.23-bioc/R/bin/R CMD check --install=check:MsBackendRawFileReader.install-out.txt --library=/home/biocbuild/bbs-3.23-bioc/R/site-library --timings MsBackendRawFileReader_1.17.0.tar.gz StartedAt: 2025-11-14 01:45:33 -0500 (Fri, 14 Nov 2025) EndedAt: 2025-11-14 01:50:17 -0500 (Fri, 14 Nov 2025) EllapsedTime: 283.4 seconds RetCode: 0 Status: OK CheckDir: MsBackendRawFileReader.Rcheck Warnings: 0