Package: MsBackendRawFileReader Version: 1.17.0 Command: /Library/Frameworks/R.framework/Resources/bin/R CMD INSTALL MsBackendRawFileReader StartedAt: 2025-11-13 15:07:43 -0500 (Thu, 13 Nov 2025) EndedAt: 2025-11-13 15:07:49 -0500 (Thu, 13 Nov 2025) EllapsedTime: 6.2 seconds RetCode: 0 Status: OK