Package: MsBackendRawFileReader Version: 1.17.0 Command: /Library/Frameworks/R.framework/Resources/bin/R CMD check --install=check:MsBackendRawFileReader.install-out.txt --library=/Library/Frameworks/R.framework/Resources/library --no-vignettes --timings MsBackendRawFileReader_1.17.0.tar.gz StartedAt: 2025-11-13 21:15:18 -0500 (Thu, 13 Nov 2025) EndedAt: 2025-11-13 21:18:35 -0500 (Thu, 13 Nov 2025) EllapsedTime: 197.4 seconds RetCode: 0 Status: OK CheckDir: MsBackendRawFileReader.Rcheck Warnings: 0