Package: MsBackendRawFileReader Version: 1.17.0 Command: /Library/Frameworks/R.framework/Resources/bin/R CMD build --keep-empty-dirs --no-resave-data MsBackendRawFileReader StartedAt: 2025-11-13 17:07:27 -0500 (Thu, 13 Nov 2025) EndedAt: 2025-11-13 17:09:26 -0500 (Thu, 13 Nov 2025) EllapsedTime: 119.4 seconds RetCode: 0 Status: OK PackageFile: MsBackendRawFileReader_1.17.0.tar.gz PackageFileSize: 1.471 MiB