Package: MsBackendMsp Version: 1.15.0 Command: /home/biocbuild/bbs-3.23-bioc/R/bin/R CMD check --install=check:MsBackendMsp.install-out.txt --library=/home/biocbuild/bbs-3.23-bioc/R/site-library --timings MsBackendMsp_1.15.0.tar.gz StartedAt: 2025-11-14 01:45:10 -0500 (Fri, 14 Nov 2025) EndedAt: 2025-11-14 01:46:32 -0500 (Fri, 14 Nov 2025) EllapsedTime: 81.1 seconds RetCode: 0 Status: OK CheckDir: MsBackendMsp.Rcheck Warnings: 0