Package: MsBackendMsp Version: 1.15.0 Command: /Library/Frameworks/R.framework/Resources/bin/R CMD check --install=check:MsBackendMsp.install-out.txt --library=/Library/Frameworks/R.framework/Resources/library --no-vignettes --timings MsBackendMsp_1.15.0.tar.gz StartedAt: 2025-11-13 21:15:08 -0500 (Thu, 13 Nov 2025) EndedAt: 2025-11-13 21:15:44 -0500 (Thu, 13 Nov 2025) EllapsedTime: 36.5 seconds RetCode: 0 Status: OK CheckDir: MsBackendMsp.Rcheck Warnings: 0