Package: MsBackendMgf Version: 1.19.0 Command: /Library/Frameworks/R.framework/Resources/bin/R CMD INSTALL MsBackendMgf StartedAt: 2025-11-13 15:07:46 -0500 (Thu, 13 Nov 2025) EndedAt: 2025-11-13 15:07:50 -0500 (Thu, 13 Nov 2025) EllapsedTime: 4.4 seconds RetCode: 0 Status: OK