Package: MsBackendMgf Version: 1.19.0 Command: /Library/Frameworks/R.framework/Resources/bin/R CMD build --keep-empty-dirs --no-resave-data MsBackendMgf StartedAt: 2025-11-13 17:07:20 -0500 (Thu, 13 Nov 2025) EndedAt: 2025-11-13 17:07:28 -0500 (Thu, 13 Nov 2025) EllapsedTime: 8.1 seconds RetCode: 0 Status: OK PackageFile: MsBackendMgf_1.19.0.tar.gz PackageFileSize: 335.7 KiB