Package: MsBackendMgf Version: 1.19.0 Maintainer: RforMassSpectrometry Package Maintainer MaintainerEmail: maintainer at rformassspectrometry.org git_url: https://git.bioconductor.org/packages/MsBackendMgf git_branch: devel git_last_commit: 3de3a3e git_last_commit_date: 2025-10-29 11:06:57 -0500 (Wed, 29 Oct 2025)