Package: MsBackendMetaboLights Version: 1.5.1 Command: /home/biocbuild/bbs-3.23-bioc/R/bin/R CMD check --install=check:MsBackendMetaboLights.install-out.txt --library=/home/biocbuild/bbs-3.23-bioc/R/site-library --timings MsBackendMetaboLights_1.5.1.tar.gz StartedAt: 2025-11-15 01:49:59 -0500 (Sat, 15 Nov 2025) EndedAt: 2025-11-15 02:08:06 -0500 (Sat, 15 Nov 2025) EllapsedTime: 1086.8 seconds RetCode: 0 Status: OK CheckDir: MsBackendMetaboLights.Rcheck Warnings: 0