Package: MsBackendMetaboLights Version: 1.5.1 Command: /Library/Frameworks/R.framework/Resources/bin/R CMD INSTALL MsBackendMetaboLights StartedAt: 2025-11-14 15:08:18 -0500 (Fri, 14 Nov 2025) EndedAt: 2025-11-14 15:08:23 -0500 (Fri, 14 Nov 2025) EllapsedTime: 5.3 seconds RetCode: 0 Status: OK