Package: MsBackendMetaboLights Version: 1.5.1 Command: /Library/Frameworks/R.framework/Resources/bin/R CMD build --keep-empty-dirs --no-resave-data MsBackendMetaboLights StartedAt: 2025-11-14 17:04:24 -0500 (Fri, 14 Nov 2025) EndedAt: 2025-11-14 17:04:59 -0500 (Fri, 14 Nov 2025) EllapsedTime: 34.4 seconds RetCode: 0 Status: OK PackageFile: MsBackendMetaboLights_1.5.1.tar.gz PackageFileSize: 310.9 KiB