Package: MsBackendMetaboLights Version: 1.5.1 Command: rm -rf MsBackendMetaboLights.buildbin-libdir && mkdir MsBackendMetaboLights.buildbin-libdir && /Users/biocbuild/BBS/utils/build-universal.sh MsBackendMetaboLights_1.5.1.tar.gz /Library/Frameworks/R.framework/Resources/bin/R MsBackendMetaboLights.buildbin-libdir StartedAt: 2025-11-14 23:42:01 -0500 (Fri, 14 Nov 2025) EndedAt: 2025-11-14 23:42:08 -0500 (Fri, 14 Nov 2025) EllapsedTime: 7.1 seconds RetCode: 0 Status: OK PackageFile: MsBackendMetaboLights_1.5.1.tgz PackageFileSize: 351.6 KiB