Package: MsBackendMetaboLights Version: 1.5.1 Maintainer: Johannes Rainer MaintainerEmail: Johannes.Rainer at eurac.edu git_url: https://git.bioconductor.org/packages/MsBackendMetaboLights git_branch: devel git_last_commit: d9f698a git_last_commit_date: 2025-11-04 02:35:39 -0500 (Tue, 04 Nov 2025)