Package: MsBackendMassbank Version: 1.19.0 Command: /Library/Frameworks/R.framework/Resources/bin/R CMD build --keep-empty-dirs --no-resave-data MsBackendMassbank StartedAt: 2025-11-13 17:07:18 -0500 (Thu, 13 Nov 2025) EndedAt: 2025-11-13 17:07:27 -0500 (Thu, 13 Nov 2025) EllapsedTime: 9.1 seconds RetCode: 0 Status: OK PackageFile: MsBackendMassbank_1.19.0.tar.gz PackageFileSize: 421 KiB