Package: MsBackendMassbank Version: 1.19.0 Command: rm -rf MsBackendMassbank.buildbin-libdir && mkdir MsBackendMassbank.buildbin-libdir && /Users/biocbuild/BBS/utils/build-universal.sh MsBackendMassbank_1.19.0.tar.gz /Library/Frameworks/R.framework/Resources/bin/R MsBackendMassbank.buildbin-libdir StartedAt: 2025-11-13 23:46:54 -0500 (Thu, 13 Nov 2025) EndedAt: 2025-11-13 23:47:00 -0500 (Thu, 13 Nov 2025) EllapsedTime: 6.1 seconds RetCode: 0 Status: OK PackageFile: MsBackendMassbank_1.19.0.tgz PackageFileSize: 636.6 KiB