Package: MouseFM Version: 1.21.0 Command: /home/biocbuild/bbs-3.23-bioc/R/bin/R CMD INSTALL MouseFM StartedAt: 2025-11-13 15:51:08 -0500 (Thu, 13 Nov 2025) EndedAt: 2025-11-13 15:51:27 -0500 (Thu, 13 Nov 2025) EllapsedTime: 18.5 seconds RetCode: 0 Status: OK