Package: MouseFM Version: 1.21.0 Command: /Library/Frameworks/R.framework/Resources/bin/R CMD build --keep-empty-dirs --no-resave-data MouseFM StartedAt: 2025-11-12 16:46:32 -0500 (Wed, 12 Nov 2025) EndedAt: 2025-11-12 16:47:04 -0500 (Wed, 12 Nov 2025) EllapsedTime: 32.4 seconds RetCode: 0 Status: OK PackageFile: MouseFM_1.21.0.tar.gz PackageFileSize: 768 KiB