Package: MouseFM Version: 1.21.0 Maintainer: Matthias Munz MaintainerEmail: matthias.munz at gmx.de git_url: https://git.bioconductor.org/packages/MouseFM git_branch: devel git_last_commit: 8f52b6a git_last_commit_date: 2025-10-29 11:13:56 -0500 (Wed, 29 Oct 2025)