Package: MoonlightR Version: 1.37.0 Command: /home/biocbuild/bbs-3.23-bioc/R/bin/R CMD INSTALL MoonlightR StartedAt: 2025-11-14 15:51:41 -0500 (Fri, 14 Nov 2025) EndedAt: 2025-11-14 15:52:31 -0500 (Fri, 14 Nov 2025) EllapsedTime: 50.0 seconds RetCode: 0 Status: OK